BEGIN:VCALENDAR
VERSION:2.0
PRODID:-//World Cleanup Day - France - ECPv6.15.20//NONSGML v1.0//EN
CALSCALE:GREGORIAN
METHOD:PUBLISH
X-ORIGINAL-URL:https://www.worldcleanupday.fr
X-WR-CALDESC:Évènements pour World Cleanup Day - France
REFRESH-INTERVAL;VALUE=DURATION:PT1H
X-Robots-Tag:noindex
X-PUBLISHED-TTL:PT1H
BEGIN:VTIMEZONE
TZID:Europe/Paris
BEGIN:DAYLIGHT
TZOFFSETFROM:+0100
TZOFFSETTO:+0200
TZNAME:CEST
DTSTART:20250330T010000
END:DAYLIGHT
BEGIN:STANDARD
TZOFFSETFROM:+0200
TZOFFSETTO:+0100
TZNAME:CET
DTSTART:20251026T010000
END:STANDARD
BEGIN:DAYLIGHT
TZOFFSETFROM:+0100
TZOFFSETTO:+0200
TZNAME:CEST
DTSTART:20260329T010000
END:DAYLIGHT
BEGIN:STANDARD
TZOFFSETFROM:+0200
TZOFFSETTO:+0100
TZNAME:CET
DTSTART:20261025T010000
END:STANDARD
BEGIN:DAYLIGHT
TZOFFSETFROM:+0100
TZOFFSETTO:+0200
TZNAME:CEST
DTSTART:20270328T010000
END:DAYLIGHT
BEGIN:STANDARD
TZOFFSETFROM:+0200
TZOFFSETTO:+0100
TZNAME:CET
DTSTART:20271031T010000
END:STANDARD
END:VTIMEZONE
BEGIN:VEVENT
DTSTART;TZID=Europe/Paris:20260429T140000
DTEND;TZID=Europe/Paris:20260429T144500
DTSTAMP:20260421T031012
CREATED:20240626T084113Z
LAST-MODIFIED:20251118T131400Z
UID:9809-1777471200-1777473900@www.worldcleanupday.fr
SUMMARY:Permanence à l'attention des entreprises
DESCRIPTION:Vous êtes une entreprise et souhaitez être accompagnée pour l’organisation de votre ramassage ? Notre équipe du Pôle Mécénats et financements répond à vos questions lors de permanences dédiées !\nInscrivez-vous ici
URL:https://www.worldcleanupday.fr/event/permanence-a-lattention-des-entreprises-3/
CATEGORIES:Permanence entreprises
ATTACH;FMTTYPE=image/png:https://www.worldcleanupday.fr/wp-content/uploads/2024/06/unnamed-file.png
END:VEVENT
BEGIN:VEVENT
DTSTART;TZID=Europe/Paris:20260513T140000
DTEND;TZID=Europe/Paris:20260513T144500
DTSTAMP:20260421T031012
CREATED:20240626T083336Z
LAST-MODIFIED:20251118T131519Z
UID:9803-1778680800-1778683500@www.worldcleanupday.fr
SUMMARY:Permanence à l'attention des entreprises
DESCRIPTION:Vous êtes une entreprise et souhaitez être accompagnée pour l’organisation de votre ramassage ? Notre équipe du Pôle Mécénats et financements répond à vos questions lors de permanences dédiées !\nInscrivez-vous ici
URL:https://www.worldcleanupday.fr/event/permanence-a-lattention-des-entreprises-2/
CATEGORIES:Permanence entreprises
ATTACH;FMTTYPE=image/png:https://www.worldcleanupday.fr/wp-content/uploads/2024/06/unnamed-file.png
END:VEVENT
BEGIN:VEVENT
DTSTART;TZID=Europe/Paris:20260519T130000
DTEND;TZID=Europe/Paris:20260519T140000
DTSTAMP:20260421T031012
CREATED:20230622T103031Z
LAST-MODIFIED:20260407T110112Z
UID:7443-1779195600-1779199200@www.worldcleanupday.fr
SUMMARY:Webinaire de lancement du World Cleanup Day 2026
DESCRIPTION:📣 Prêts à agir pour une planète sans déchets ?🌍\nRejoignez-nous au webinaire de lancement duWorld Cleanup Day édition 2026\, le 19 mai de 13h à 14h !\nJe m’inscris
URL:https://www.worldcleanupday.fr/event/lancement-worldcleanupday-2026/
CATEGORIES:Événements WCD
ATTACH;FMTTYPE=image/jpeg:https://www.worldcleanupday.fr/wp-content/uploads/2023/06/Webinaire-de-lancement-WCD-2026.jpg
END:VEVENT
BEGIN:VEVENT
DTSTART;TZID=Europe/Paris:20260527T140000
DTEND;TZID=Europe/Paris:20260527T144500
DTSTAMP:20260421T031012
CREATED:20231213T110101Z
LAST-MODIFIED:20251118T132558Z
UID:8217-1779890400-1779893100@www.worldcleanupday.fr
SUMMARY:Permanence à l'attention des entreprises
DESCRIPTION:Vous êtes une entreprise et souhaitez être accompagnée pour l’organisation de votre ramassage ? Notre équipe du Pôle Mécénats et financements répond à vos questions lors de permanences dédiées !\nInscrivez-vous ici
URL:https://www.worldcleanupday.fr/event/permanence-a-lattention-des-entreprises-8/
CATEGORIES:Permanence entreprises
ATTACH;FMTTYPE=image/png:https://www.worldcleanupday.fr/wp-content/uploads/2023/06/Cover-site-format-Facebook.png
END:VEVENT
BEGIN:VEVENT
DTSTART;TZID=Europe/Paris:20260617T140000
DTEND;TZID=Europe/Paris:20260617T144500
DTSTAMP:20260421T031012
CREATED:20240626T093356Z
LAST-MODIFIED:20260417T133341Z
UID:9844-1781704800-1781707500@www.worldcleanupday.fr
SUMMARY:Permanence à l'attention des entreprises
DESCRIPTION:Vous êtes une entreprise et souhaitez être accompagnée pour l’organisation de votre ramassage ? Notre équipe du Pôle Mécénats et financements répond à vos questions lors de permanences dédiées !\nInscrivez-vous ici
URL:https://www.worldcleanupday.fr/event/permanence-lattention-des-entreprises/
CATEGORIES:Permanence entreprises
ATTACH;FMTTYPE=image/png:https://www.worldcleanupday.fr/wp-content/uploads/2024/06/unnamed-file.png
END:VEVENT
BEGIN:VEVENT
DTSTART;TZID=Europe/Paris:20260715T140000
DTEND;TZID=Europe/Paris:20260715T144500
DTSTAMP:20260421T031012
CREATED:20240626T092137Z
LAST-MODIFIED:20260417T133251Z
UID:9840-1784124000-1784126700@www.worldcleanupday.fr
SUMMARY:Permanence à l'attention des entreprises
DESCRIPTION:Vous êtes une entreprise et souhaitez être accompagnée pour l’organisation de votre ramassage ? Notre équipe du Pôle Mécénats et financements répond à vos questions lors de permanences dédiées !\nInscrivez-vous ici
URL:https://www.worldcleanupday.fr/event/permanence-a-lattention-des-entreprises-4/
CATEGORIES:Permanence entreprises
ATTACH;FMTTYPE=image/png:https://www.worldcleanupday.fr/wp-content/uploads/2024/06/unnamed-file.png
END:VEVENT
BEGIN:VEVENT
DTSTART;TZID=Europe/Paris:20260812T140000
DTEND;TZID=Europe/Paris:20260812T144500
DTSTAMP:20260421T031012
CREATED:20240626T085814Z
LAST-MODIFIED:20260417T133541Z
UID:9830-1786543200-1786545900@www.worldcleanupday.fr
SUMMARY:Permanence à l'attention des entreprises
DESCRIPTION:Vous êtes une entreprise et souhaitez être accompagnée pour l’organisation de votre ramassage ? Notre équipe du Pôle Mécénats et financements répond à vos questions lors de permanences dédiées !\nInscrivez-vous ici
URL:https://www.worldcleanupday.fr/event/permanence-a-lattention-des-entreprises-6/
CATEGORIES:Permanence entreprises
ATTACH;FMTTYPE=image/png:https://www.worldcleanupday.fr/wp-content/uploads/2024/06/unnamed-file.png
END:VEVENT
BEGIN:VEVENT
DTSTART;TZID=Europe/Paris:20260826T140000
DTEND;TZID=Europe/Paris:20260826T144500
DTSTAMP:20260421T031012
CREATED:20240321T091644Z
LAST-MODIFIED:20260417T133746Z
UID:8742-1787752800-1787755500@www.worldcleanupday.fr
SUMMARY:Permanence à l'attention des entreprises
DESCRIPTION:Vous êtes une entreprise et souhaitez être accompagnée pour l’organisation de votre ramassage ? Notre équipe du Pôle Mécénats et financements répond à vos questions lors de permanences dédiées !\nInscrivez-vous ici
URL:https://www.worldcleanupday.fr/event/permanence-world-cleanup-day-6/
CATEGORIES:Permanence entreprises
ATTACH;FMTTYPE=image/png:https://www.worldcleanupday.fr/wp-content/uploads/2024/06/unnamed-file.png
END:VEVENT
END:VCALENDAR